BEGIN:VCALENDAR
PRODID:-//Essity.com//Events//EN
VERSION:2.0
METHOD:PUBLISH
BEGIN:VEVENT
DTSTART:20260908T070000Z
DTEND:20260908T160022Z
DTSTAMP:20260425T184645Z
UID:f5d4a0e8-3a28-46e9-97a7-17308e1171af
CREATED:20260425T184645Z
X-ALT-DESC;FMTTYPE=text/html:<p>Deltagare: Ulrika Kolsrud, vd och koncernchef</p><p></p>
LAST-MODIFIED:20260425T184645Z
SEQUENCE:0
STATUS:CONFIRMED
SUMMARY:Kepler Cheuvreux Autumn Conference i Paris
TRANSP:OPAQUE
END:VEVENT
END:VCALENDAR
