BEGIN:VCALENDAR
PRODID:-//Essity.com//Events//EN
VERSION:2.0
METHOD:PUBLISH
BEGIN:VEVENT
DTSTART:20260507T070000Z
DTEND:20260507T110000Z
DTSTAMP:20260423T123252Z
UID:7ede1db7-478b-4cab-a8fe-9b1a8e5172a5
CREATED:20260423T123252Z
X-ALT-DESC;FMTTYPE=text/html:<p>Kapitalmarknadsdag i Göteborg</p><p>Mellan kl. 09:00 och cirka 13:00 presenterar vd och koncernchef Ulrika Kolsrud, tillsammans med medlemmar från koncernledningen, Essitys strategi för lönsam tillväxt. Presentationen kommer att livesändas.</p><p><p>https://www.essity.se/investerare/capital-market-events/kapitalmarknadsdag-2026/</p></p>
LAST-MODIFIED:20260423T123252Z
SEQUENCE:0
STATUS:CONFIRMED
SUMMARY:Capital Markets Day 2026
TRANSP:OPAQUE
END:VEVENT
END:VCALENDAR
