BEGIN:VCALENDAR
PRODID:-//Essity.com//Events//EN
VERSION:2.0
METHOD:PUBLISH
BEGIN:VEVENT
DTSTART:20260818T070000Z
DTEND:20260818T060000Z
DTSTAMP:20260425T184149Z
UID:b898effd-0be5-465d-ad55-2b5e271eb5c9
CREATED:20260425T184149Z
X-ALT-DESC;FMTTYPE=text/html:<p>Participant: Ulrika Kolsrud, President and CEO</p><p></p>
LAST-MODIFIED:20260425T184149Z
SEQUENCE:0
STATUS:CONFIRMED
SUMMARY:SEB Nordic Large Cap Seminar i Stockholm
TRANSP:OPAQUE
END:VEVENT
END:VCALENDAR
