BEGIN:VCALENDAR
PRODID:-//Essity.com//Events//EN
VERSION:2.0
METHOD:PUBLISH
BEGIN:VEVENT
DTSTART:20260716T070000Z
DTEND:20260716T150000Z
DTSTAMP:20260425T184000Z
UID:59d855fd-359c-4f2e-927b-8356da02c408
CREATED:20260425T184000Z
X-ALT-DESC;FMTTYPE=text/html:<p>Essity publicerar delårsrapporten för 1 januari - 30 juni 2026 den 16 juli, cirka kl. 07:00</p><p></p>
LAST-MODIFIED:20260425T184000Z
SEQUENCE:0
STATUS:CONFIRMED
SUMMARY: Essity publicerar delårsrapport kvartal 2 2026
TRANSP:OPAQUE
END:VEVENT
END:VCALENDAR
