BEGIN:VCALENDAR
PRODID:-//Essity.com//Events//EN
VERSION:2.0
METHOD:PUBLISH
BEGIN:VEVENT
DTSTART:20260701T070000Z
DTEND:20260715T150000Z
DTSTAMP:20260425T200210Z
UID:22f3f94c-612a-4759-a7ee-11eb1cdc1f20
CREATED:20260425T200210Z
X-ALT-DESC;FMTTYPE=text/html:<p>Tyst period på Essity startar omedelbart när en rapporteringsperiod slutar och varar fram tills att resultaten för perioden publiceras</p><p></p>
LAST-MODIFIED:20260425T200210Z
SEQUENCE:0
STATUS:CONFIRMED
SUMMARY:Tyst period juli 1 – 15, 2026
TRANSP:OPAQUE
END:VEVENT
END:VCALENDAR
