BEGIN:VCALENDAR
PRODID:-//Essity.com//Events//EN
VERSION:2.0
METHOD:PUBLISH
BEGIN:VEVENT
DTSTART:20260603T070000Z
DTEND:20260603T150000Z
DTSTAMP:20260425T200905Z
UID:0c813eca-74cc-43e4-a21c-5f690d5fe686
CREATED:20260425T200905Z
X-ALT-DESC;FMTTYPE=text/html:<p>Deltagare: Ulrika Kolsrud, vd och koncernchef </p><p></p>
LAST-MODIFIED:20260425T200905Z
SEQUENCE:0
STATUS:CONFIRMED
SUMMARY:BNP Paribas Exane 28th CEO Conference i Paris
TRANSP:OPAQUE
END:VEVENT
END:VCALENDAR
