BEGIN:VCALENDAR
PRODID:-//Essity.com//Events//EN
VERSION:2.0
METHOD:PUBLISH
BEGIN:VEVENT
DTSTART:20260602T070000Z
DTEND:20260602T150000Z
DTSTAMP:20260425T184012Z
UID:1da67741-a527-4cfa-a601-6461cdb249ef
CREATED:20260425T184012Z
X-ALT-DESC;FMTTYPE=text/html:<p>Deltagare: Ulrika Kolsrud, vd och koncernchef </p><p></p>
LAST-MODIFIED:20260425T184012Z
SEQUENCE:0
STATUS:CONFIRMED
SUMMARY:dbAccess Global Consumer Conference 2026 i Paris
TRANSP:OPAQUE
END:VEVENT
END:VCALENDAR
