BEGIN:VCALENDAR
PRODID:-//Essity.com//Events//EN
VERSION:2.0
METHOD:PUBLISH
BEGIN:VEVENT
DTSTART:20260601T070000Z
DTEND:20260601T150000Z
DTSTAMP:20260424T141759Z
UID:f81407d4-fc1a-43b2-8dfe-e1e156c2174e
CREATED:20260424T141759Z
X-ALT-DESC;FMTTYPE=text/html:<p>Deltagare: Fredrik Rystedt, vice vd och CFO</p><p></p>
LAST-MODIFIED:20260424T141759Z
SEQUENCE:0
STATUS:CONFIRMED
SUMMARY:Danske Bank All Cap Seminarium i Stockholm
TRANSP:OPAQUE
END:VEVENT
END:VCALENDAR
