BEGIN:VCALENDAR
PRODID:-//Essity.com//Events//EN
VERSION:2.0
METHOD:PUBLISH
BEGIN:VEVENT
DTSTART:20260916T070000Z
DTEND:20260916T150000Z
DTSTAMP:20260425T201323Z
UID:9f1b461e-9320-4b39-b88a-a7165a54796e
CREATED:20260425T201323Z
X-ALT-DESC;FMTTYPE=text/html:<p>Deltagare: Viveca Dominguez, Investor Relations Director</p><p></p>
LAST-MODIFIED:20260425T201323Z
SEQUENCE:0
STATUS:CONFIRMED
SUMMARY:Aktiespararträff i Lund
TRANSP:OPAQUE
END:VEVENT
END:VCALENDAR
